BEGIN:VCALENDAR
VERSION:2.0
PRODID:-//pretix//pretix.eu//
BEGIN:VTIMEZONE
TZID:Europe/Berlin
BEGIN:STANDARD
DTSTART:20001029T040000
RRULE:FREQ=YEARLY;BYDAY=-1SU;BYMONTH=10
TZNAME:CET
TZOFFSETFROM:+0200
TZOFFSETTO:+0100
END:STANDARD
BEGIN:DAYLIGHT
DTSTART:20000326T030000
RRULE:FREQ=YEARLY;BYDAY=-1SU;BYMONTH=3
TZNAME:CEST
TZOFFSETFROM:+0100
TZOFFSETTO:+0200
END:DAYLIGHT
END:VTIMEZONE
BEGIN:VEVENT
UID:pretix-dinsdagclub-kempenkrakwaterm-0@tickets.dinsdagclub.com
DTSTART;TZID=Europe/Berlin:20260118T150000
DTEND;TZID=Europe/Berlin:20260118T180000
DESCRIPTION:Tickets: https://tickets.dinsdagclub.com/kempenkrakwaterm/\nAdm
 ission: 2026-01-18 14:00\nOrganizer: Don Vitalski’s Legendarische Dinsda
 gClub
DTSTAMP:20260425T152225Z
LOCATION:De Groene Waterman Wolstraat 7 Antwerpen
SUMMARY:De Kempenkrak 2
END:VEVENT
END:VCALENDAR
